BEGIN:VCALENDAR
VERSION:2.0
PRODID:-//Marin County Golf - ECPv6.15.20//NONSGML v1.0//EN
CALSCALE:GREGORIAN
METHOD:PUBLISH
X-ORIGINAL-URL:https://mcinnisparkgolfcenter.com
X-WR-CALDESC:Events for Marin County Golf
REFRESH-INTERVAL;VALUE=DURATION:PT1H
X-Robots-Tag:noindex
X-PUBLISHED-TTL:PT1H
BEGIN:VTIMEZONE
TZID:America/New_York
BEGIN:DAYLIGHT
TZOFFSETFROM:-0500
TZOFFSETTO:-0400
TZNAME:EDT
DTSTART:20210314T070000
END:DAYLIGHT
BEGIN:STANDARD
TZOFFSETFROM:-0400
TZOFFSETTO:-0500
TZNAME:EST
DTSTART:20211107T060000
END:STANDARD
BEGIN:DAYLIGHT
TZOFFSETFROM:-0500
TZOFFSETTO:-0400
TZNAME:EDT
DTSTART:20220313T070000
END:DAYLIGHT
BEGIN:STANDARD
TZOFFSETFROM:-0400
TZOFFSETTO:-0500
TZNAME:EST
DTSTART:20221106T060000
END:STANDARD
BEGIN:DAYLIGHT
TZOFFSETFROM:-0500
TZOFFSETTO:-0400
TZNAME:EDT
DTSTART:20230312T070000
END:DAYLIGHT
BEGIN:STANDARD
TZOFFSETFROM:-0400
TZOFFSETTO:-0500
TZNAME:EST
DTSTART:20231105T060000
END:STANDARD
END:VTIMEZONE
BEGIN:VTIMEZONE
TZID:America/Los_Angeles
BEGIN:DAYLIGHT
TZOFFSETFROM:-0800
TZOFFSETTO:-0700
TZNAME:PDT
DTSTART:20200308T100000
END:DAYLIGHT
BEGIN:STANDARD
TZOFFSETFROM:-0700
TZOFFSETTO:-0800
TZNAME:PST
DTSTART:20201101T090000
END:STANDARD
BEGIN:DAYLIGHT
TZOFFSETFROM:-0800
TZOFFSETTO:-0700
TZNAME:PDT
DTSTART:20210314T100000
END:DAYLIGHT
BEGIN:STANDARD
TZOFFSETFROM:-0700
TZOFFSETTO:-0800
TZNAME:PST
DTSTART:20211107T090000
END:STANDARD
BEGIN:DAYLIGHT
TZOFFSETFROM:-0800
TZOFFSETTO:-0700
TZNAME:PDT
DTSTART:20220313T100000
END:DAYLIGHT
BEGIN:STANDARD
TZOFFSETFROM:-0700
TZOFFSETTO:-0800
TZNAME:PST
DTSTART:20221106T090000
END:STANDARD
END:VTIMEZONE
BEGIN:VEVENT
DTSTART;TZID=America/New_York:20221020T101500
DTEND;TZID=America/New_York:20221020T113000
DTSTAMP:20260423T095418
CREATED:20220727T124458Z
LAST-MODIFIED:20220727T124458Z
UID:10003362-1666260900-1666265400@mcinnisparkgolfcenter.com
SUMMARY:Birdie Bunch - Session 2
DESCRIPTION:McInnis Birdie Bunch\nCalling all ladies: Birdie Bunch is Back!\nMcInnis Park Golf Academy is again hosting a Birdie Bunch class that features Operation 36. \nClasses will start with Putting then chipping & Pitching followed by Full Swing Coaching. \nBirdie Bunch Sessions\nSession 1 | Thursdays\nSeptember 1st – September 29th\n10:15am-11:30pm\nCost per person: $225\nLimited Capacity: 18 Ladies Max \nSession 1 | Fridays\nSeptember 2nd – September 30th\n10:15am-11:30pm\nCost per person: $225\nLimited Capacity: 12 Ladies Max \nSession 2 | Thursdays\nOctober 6th – November 3rd\n10:15am-11:30pm\nCost per person: $225\nLimited Capacity: 18 Ladies Max \nSession 2 | Fridays\nOctober 7th – November 4th\n10:15am-11:30pm\nMax = 12\nCost per person: $225\nLimited Capacity: 12 Ladies Max
URL:https://mcinnisparkgolfcenter.com/event/birdie-bunch-session-2-5/2022-10-20/
CATEGORIES:Upcoming Events
ATTACH;FMTTYPE=image/png:https://mcinnisparkgolfcenter.com/wp-content/uploads/2022/07/3.png
END:VEVENT
BEGIN:VEVENT
DTSTART;TZID=America/New_York:20221014T101500
DTEND;TZID=America/New_York:20221014T113000
DTSTAMP:20260423T095418
CREATED:20220727T124458Z
LAST-MODIFIED:20220727T124458Z
UID:10003361-1665742500-1665747000@mcinnisparkgolfcenter.com
SUMMARY:Birdie Bunch - Session 2
DESCRIPTION:McInnis Birdie Bunch\nCalling all ladies: Birdie Bunch is Back!\nMcInnis Park Golf Academy is again hosting a Birdie Bunch class that features Operation 36. \nClasses will start with Putting then chipping & Pitching followed by Full Swing Coaching. \nBirdie Bunch Sessions\nSession 1 | Thursdays\nSeptember 1st – September 29th\n10:15am-11:30pm\nCost per person: $225\nLimited Capacity: 18 Ladies Max \nSession 1 | Fridays\nSeptember 2nd – September 30th\n10:15am-11:30pm\nCost per person: $225\nLimited Capacity: 12 Ladies Max \nSession 2 | Thursdays\nOctober 6th – November 3rd\n10:15am-11:30pm\nCost per person: $225\nLimited Capacity: 18 Ladies Max \nSession 2 | Fridays\nOctober 7th – November 4th\n10:15am-11:30pm\nMax = 12\nCost per person: $225\nLimited Capacity: 12 Ladies Max
URL:https://mcinnisparkgolfcenter.com/event/birdie-bunch-session-2-5/2022-10-14/
CATEGORIES:Upcoming Events
ATTACH;FMTTYPE=image/png:https://mcinnisparkgolfcenter.com/wp-content/uploads/2022/07/3.png
END:VEVENT
BEGIN:VEVENT
DTSTART;TZID=America/New_York:20221013T101500
DTEND;TZID=America/New_York:20221013T113000
DTSTAMP:20260423T095418
CREATED:20220727T124458Z
LAST-MODIFIED:20220727T124458Z
UID:10003360-1665656100-1665660600@mcinnisparkgolfcenter.com
SUMMARY:Birdie Bunch - Session 2
DESCRIPTION:McInnis Birdie Bunch\nCalling all ladies: Birdie Bunch is Back!\nMcInnis Park Golf Academy is again hosting a Birdie Bunch class that features Operation 36. \nClasses will start with Putting then chipping & Pitching followed by Full Swing Coaching. \nBirdie Bunch Sessions\nSession 1 | Thursdays\nSeptember 1st – September 29th\n10:15am-11:30pm\nCost per person: $225\nLimited Capacity: 18 Ladies Max \nSession 1 | Fridays\nSeptember 2nd – September 30th\n10:15am-11:30pm\nCost per person: $225\nLimited Capacity: 12 Ladies Max \nSession 2 | Thursdays\nOctober 6th – November 3rd\n10:15am-11:30pm\nCost per person: $225\nLimited Capacity: 18 Ladies Max \nSession 2 | Fridays\nOctober 7th – November 4th\n10:15am-11:30pm\nMax = 12\nCost per person: $225\nLimited Capacity: 12 Ladies Max
URL:https://mcinnisparkgolfcenter.com/event/birdie-bunch-session-2-5/2022-10-13/
CATEGORIES:Upcoming Events
ATTACH;FMTTYPE=image/png:https://mcinnisparkgolfcenter.com/wp-content/uploads/2022/07/3.png
END:VEVENT
BEGIN:VEVENT
DTSTART;TZID=America/New_York:20221007T101500
DTEND;TZID=America/New_York:20221007T113000
DTSTAMP:20260423T095418
CREATED:20220727T124458Z
LAST-MODIFIED:20220727T124458Z
UID:10003359-1665137700-1665142200@mcinnisparkgolfcenter.com
SUMMARY:Birdie Bunch - Session 2
DESCRIPTION:McInnis Birdie Bunch\nCalling all ladies: Birdie Bunch is Back!\nMcInnis Park Golf Academy is again hosting a Birdie Bunch class that features Operation 36. \nClasses will start with Putting then chipping & Pitching followed by Full Swing Coaching. \nBirdie Bunch Sessions\nSession 1 | Thursdays\nSeptember 1st – September 29th\n10:15am-11:30pm\nCost per person: $225\nLimited Capacity: 18 Ladies Max \nSession 1 | Fridays\nSeptember 2nd – September 30th\n10:15am-11:30pm\nCost per person: $225\nLimited Capacity: 12 Ladies Max \nSession 2 | Thursdays\nOctober 6th – November 3rd\n10:15am-11:30pm\nCost per person: $225\nLimited Capacity: 18 Ladies Max \nSession 2 | Fridays\nOctober 7th – November 4th\n10:15am-11:30pm\nMax = 12\nCost per person: $225\nLimited Capacity: 12 Ladies Max
URL:https://mcinnisparkgolfcenter.com/event/birdie-bunch-session-2-5/2022-10-07/
CATEGORIES:Upcoming Events
ATTACH;FMTTYPE=image/png:https://mcinnisparkgolfcenter.com/wp-content/uploads/2022/07/3.png
END:VEVENT
BEGIN:VEVENT
DTSTART;TZID=America/New_York:20221006T101500
DTEND;TZID=America/New_York:20221006T113000
DTSTAMP:20260423T095418
CREATED:20220727T124458Z
LAST-MODIFIED:20220727T124458Z
UID:10003358-1665051300-1665055800@mcinnisparkgolfcenter.com
SUMMARY:Birdie Bunch - Session 2
DESCRIPTION:McInnis Birdie Bunch\nCalling all ladies: Birdie Bunch is Back!\nMcInnis Park Golf Academy is again hosting a Birdie Bunch class that features Operation 36. \nClasses will start with Putting then chipping & Pitching followed by Full Swing Coaching. \nBirdie Bunch Sessions\nSession 1 | Thursdays\nSeptember 1st – September 29th\n10:15am-11:30pm\nCost per person: $225\nLimited Capacity: 18 Ladies Max \nSession 1 | Fridays\nSeptember 2nd – September 30th\n10:15am-11:30pm\nCost per person: $225\nLimited Capacity: 12 Ladies Max \nSession 2 | Thursdays\nOctober 6th – November 3rd\n10:15am-11:30pm\nCost per person: $225\nLimited Capacity: 18 Ladies Max \nSession 2 | Fridays\nOctober 7th – November 4th\n10:15am-11:30pm\nMax = 12\nCost per person: $225\nLimited Capacity: 12 Ladies Max
URL:https://mcinnisparkgolfcenter.com/event/birdie-bunch-session-2-5/2022-10-06/
CATEGORIES:Upcoming Events
ATTACH;FMTTYPE=image/png:https://mcinnisparkgolfcenter.com/wp-content/uploads/2022/07/3.png
END:VEVENT
BEGIN:VEVENT
DTSTART;TZID=America/New_York:20220930T101500
DTEND;TZID=America/New_York:20220930T113000
DTSTAMP:20260423T095418
CREATED:20220727T124448Z
LAST-MODIFIED:20220727T124448Z
UID:10003357-1664532900-1664537400@mcinnisparkgolfcenter.com
SUMMARY:Birdie Bunch - Session 1
DESCRIPTION:McInnis Birdie Bunch\nCalling all ladies: Birdie Bunch is Back!\nMcInnis Park Golf Academy is again hosting a Birdie Bunch class that features Operation 36. \nClasses will start with Putting then chipping & Pitching followed by Full Swing Coaching. \nBirdie Bunch Sessions\nSession 1 | Thursdays\nSeptember 1st – September 29th\n10:15am-11:30pm\nCost per person: $225\nLimited Capacity: 18 Ladies Max \nSession 1 | Fridays\nSeptember 2nd – September 30th\n10:15am-11:30pm\nCost per person: $225\nLimited Capacity: 12 Ladies Max \nSession 2 | Thursdays\nOctober 6th – November 3rd\n10:15am-11:30pm\nCost per person: $225\nLimited Capacity: 18 Ladies Max \nSession 2 | Fridays\nOctober 7th – November 4th\n10:15am-11:30pm\nMax = 12\nCost per person: $225\nLimited Capacity: 12 Ladies Max
URL:https://mcinnisparkgolfcenter.com/event/birdie-bunch-session-1-5/2022-09-30/
CATEGORIES:Upcoming Events
ATTACH;FMTTYPE=image/png:https://mcinnisparkgolfcenter.com/wp-content/uploads/2022/07/3.png
END:VEVENT
BEGIN:VEVENT
DTSTART;TZID=America/New_York:20220929T101500
DTEND;TZID=America/New_York:20220929T113000
DTSTAMP:20260423T095418
CREATED:20220727T124448Z
LAST-MODIFIED:20220727T124448Z
UID:10003356-1664446500-1664451000@mcinnisparkgolfcenter.com
SUMMARY:Birdie Bunch - Session 1
DESCRIPTION:McInnis Birdie Bunch\nCalling all ladies: Birdie Bunch is Back!\nMcInnis Park Golf Academy is again hosting a Birdie Bunch class that features Operation 36. \nClasses will start with Putting then chipping & Pitching followed by Full Swing Coaching. \nBirdie Bunch Sessions\nSession 1 | Thursdays\nSeptember 1st – September 29th\n10:15am-11:30pm\nCost per person: $225\nLimited Capacity: 18 Ladies Max \nSession 1 | Fridays\nSeptember 2nd – September 30th\n10:15am-11:30pm\nCost per person: $225\nLimited Capacity: 12 Ladies Max \nSession 2 | Thursdays\nOctober 6th – November 3rd\n10:15am-11:30pm\nCost per person: $225\nLimited Capacity: 18 Ladies Max \nSession 2 | Fridays\nOctober 7th – November 4th\n10:15am-11:30pm\nMax = 12\nCost per person: $225\nLimited Capacity: 12 Ladies Max
URL:https://mcinnisparkgolfcenter.com/event/birdie-bunch-session-1-5/2022-09-29/
CATEGORIES:Upcoming Events
ATTACH;FMTTYPE=image/png:https://mcinnisparkgolfcenter.com/wp-content/uploads/2022/07/3.png
END:VEVENT
BEGIN:VEVENT
DTSTART;TZID=America/New_York:20220923T101500
DTEND;TZID=America/New_York:20220923T113000
DTSTAMP:20260423T095418
CREATED:20220727T124448Z
LAST-MODIFIED:20220727T124448Z
UID:10003355-1663928100-1663932600@mcinnisparkgolfcenter.com
SUMMARY:Birdie Bunch - Session 1
DESCRIPTION:McInnis Birdie Bunch\nCalling all ladies: Birdie Bunch is Back!\nMcInnis Park Golf Academy is again hosting a Birdie Bunch class that features Operation 36. \nClasses will start with Putting then chipping & Pitching followed by Full Swing Coaching. \nBirdie Bunch Sessions\nSession 1 | Thursdays\nSeptember 1st – September 29th\n10:15am-11:30pm\nCost per person: $225\nLimited Capacity: 18 Ladies Max \nSession 1 | Fridays\nSeptember 2nd – September 30th\n10:15am-11:30pm\nCost per person: $225\nLimited Capacity: 12 Ladies Max \nSession 2 | Thursdays\nOctober 6th – November 3rd\n10:15am-11:30pm\nCost per person: $225\nLimited Capacity: 18 Ladies Max \nSession 2 | Fridays\nOctober 7th – November 4th\n10:15am-11:30pm\nMax = 12\nCost per person: $225\nLimited Capacity: 12 Ladies Max
URL:https://mcinnisparkgolfcenter.com/event/birdie-bunch-session-1-5/2022-09-23/
CATEGORIES:Upcoming Events
ATTACH;FMTTYPE=image/png:https://mcinnisparkgolfcenter.com/wp-content/uploads/2022/07/3.png
END:VEVENT
BEGIN:VEVENT
DTSTART;TZID=America/New_York:20220922T101500
DTEND;TZID=America/New_York:20220922T113000
DTSTAMP:20260423T095418
CREATED:20220727T124448Z
LAST-MODIFIED:20220727T124448Z
UID:10003354-1663841700-1663846200@mcinnisparkgolfcenter.com
SUMMARY:Birdie Bunch - Session 1
DESCRIPTION:McInnis Birdie Bunch\nCalling all ladies: Birdie Bunch is Back!\nMcInnis Park Golf Academy is again hosting a Birdie Bunch class that features Operation 36. \nClasses will start with Putting then chipping & Pitching followed by Full Swing Coaching. \nBirdie Bunch Sessions\nSession 1 | Thursdays\nSeptember 1st – September 29th\n10:15am-11:30pm\nCost per person: $225\nLimited Capacity: 18 Ladies Max \nSession 1 | Fridays\nSeptember 2nd – September 30th\n10:15am-11:30pm\nCost per person: $225\nLimited Capacity: 12 Ladies Max \nSession 2 | Thursdays\nOctober 6th – November 3rd\n10:15am-11:30pm\nCost per person: $225\nLimited Capacity: 18 Ladies Max \nSession 2 | Fridays\nOctober 7th – November 4th\n10:15am-11:30pm\nMax = 12\nCost per person: $225\nLimited Capacity: 12 Ladies Max
URL:https://mcinnisparkgolfcenter.com/event/birdie-bunch-session-1-5/2022-09-22/
CATEGORIES:Upcoming Events
ATTACH;FMTTYPE=image/png:https://mcinnisparkgolfcenter.com/wp-content/uploads/2022/07/3.png
END:VEVENT
BEGIN:VEVENT
DTSTART;TZID=America/New_York:20220916T101500
DTEND;TZID=America/New_York:20220916T113000
DTSTAMP:20260423T095418
CREATED:20220727T124448Z
LAST-MODIFIED:20220727T124448Z
UID:10003353-1663323300-1663327800@mcinnisparkgolfcenter.com
SUMMARY:Birdie Bunch - Session 1
DESCRIPTION:McInnis Birdie Bunch\nCalling all ladies: Birdie Bunch is Back!\nMcInnis Park Golf Academy is again hosting a Birdie Bunch class that features Operation 36. \nClasses will start with Putting then chipping & Pitching followed by Full Swing Coaching. \nBirdie Bunch Sessions\nSession 1 | Thursdays\nSeptember 1st – September 29th\n10:15am-11:30pm\nCost per person: $225\nLimited Capacity: 18 Ladies Max \nSession 1 | Fridays\nSeptember 2nd – September 30th\n10:15am-11:30pm\nCost per person: $225\nLimited Capacity: 12 Ladies Max \nSession 2 | Thursdays\nOctober 6th – November 3rd\n10:15am-11:30pm\nCost per person: $225\nLimited Capacity: 18 Ladies Max \nSession 2 | Fridays\nOctober 7th – November 4th\n10:15am-11:30pm\nMax = 12\nCost per person: $225\nLimited Capacity: 12 Ladies Max
URL:https://mcinnisparkgolfcenter.com/event/birdie-bunch-session-1-5/2022-09-16/
CATEGORIES:Upcoming Events
ATTACH;FMTTYPE=image/png:https://mcinnisparkgolfcenter.com/wp-content/uploads/2022/07/3.png
END:VEVENT
BEGIN:VEVENT
DTSTART;TZID=America/New_York:20220915T101500
DTEND;TZID=America/New_York:20220915T113000
DTSTAMP:20260423T095418
CREATED:20220727T124448Z
LAST-MODIFIED:20220727T124448Z
UID:10003352-1663236900-1663241400@mcinnisparkgolfcenter.com
SUMMARY:Birdie Bunch - Session 1
DESCRIPTION:McInnis Birdie Bunch\nCalling all ladies: Birdie Bunch is Back!\nMcInnis Park Golf Academy is again hosting a Birdie Bunch class that features Operation 36. \nClasses will start with Putting then chipping & Pitching followed by Full Swing Coaching. \nBirdie Bunch Sessions\nSession 1 | Thursdays\nSeptember 1st – September 29th\n10:15am-11:30pm\nCost per person: $225\nLimited Capacity: 18 Ladies Max \nSession 1 | Fridays\nSeptember 2nd – September 30th\n10:15am-11:30pm\nCost per person: $225\nLimited Capacity: 12 Ladies Max \nSession 2 | Thursdays\nOctober 6th – November 3rd\n10:15am-11:30pm\nCost per person: $225\nLimited Capacity: 18 Ladies Max \nSession 2 | Fridays\nOctober 7th – November 4th\n10:15am-11:30pm\nMax = 12\nCost per person: $225\nLimited Capacity: 12 Ladies Max
URL:https://mcinnisparkgolfcenter.com/event/birdie-bunch-session-1-5/2022-09-15/
CATEGORIES:Upcoming Events
ATTACH;FMTTYPE=image/png:https://mcinnisparkgolfcenter.com/wp-content/uploads/2022/07/3.png
END:VEVENT
BEGIN:VEVENT
DTSTART;TZID=America/New_York:20220909T101500
DTEND;TZID=America/New_York:20220909T113000
DTSTAMP:20260423T095418
CREATED:20220727T124448Z
LAST-MODIFIED:20220727T124448Z
UID:10003351-1662718500-1662723000@mcinnisparkgolfcenter.com
SUMMARY:Birdie Bunch - Session 1
DESCRIPTION:McInnis Birdie Bunch\nCalling all ladies: Birdie Bunch is Back!\nMcInnis Park Golf Academy is again hosting a Birdie Bunch class that features Operation 36. \nClasses will start with Putting then chipping & Pitching followed by Full Swing Coaching. \nBirdie Bunch Sessions\nSession 1 | Thursdays\nSeptember 1st – September 29th\n10:15am-11:30pm\nCost per person: $225\nLimited Capacity: 18 Ladies Max \nSession 1 | Fridays\nSeptember 2nd – September 30th\n10:15am-11:30pm\nCost per person: $225\nLimited Capacity: 12 Ladies Max \nSession 2 | Thursdays\nOctober 6th – November 3rd\n10:15am-11:30pm\nCost per person: $225\nLimited Capacity: 18 Ladies Max \nSession 2 | Fridays\nOctober 7th – November 4th\n10:15am-11:30pm\nMax = 12\nCost per person: $225\nLimited Capacity: 12 Ladies Max
URL:https://mcinnisparkgolfcenter.com/event/birdie-bunch-session-1-5/2022-09-09/
CATEGORIES:Upcoming Events
ATTACH;FMTTYPE=image/png:https://mcinnisparkgolfcenter.com/wp-content/uploads/2022/07/3.png
END:VEVENT
BEGIN:VEVENT
DTSTART;TZID=America/New_York:20220908T101500
DTEND;TZID=America/New_York:20220908T113000
DTSTAMP:20260423T095418
CREATED:20220727T124448Z
LAST-MODIFIED:20220727T124448Z
UID:10003350-1662632100-1662636600@mcinnisparkgolfcenter.com
SUMMARY:Birdie Bunch - Session 1
DESCRIPTION:McInnis Birdie Bunch\nCalling all ladies: Birdie Bunch is Back!\nMcInnis Park Golf Academy is again hosting a Birdie Bunch class that features Operation 36. \nClasses will start with Putting then chipping & Pitching followed by Full Swing Coaching. \nBirdie Bunch Sessions\nSession 1 | Thursdays\nSeptember 1st – September 29th\n10:15am-11:30pm\nCost per person: $225\nLimited Capacity: 18 Ladies Max \nSession 1 | Fridays\nSeptember 2nd – September 30th\n10:15am-11:30pm\nCost per person: $225\nLimited Capacity: 12 Ladies Max \nSession 2 | Thursdays\nOctober 6th – November 3rd\n10:15am-11:30pm\nCost per person: $225\nLimited Capacity: 18 Ladies Max \nSession 2 | Fridays\nOctober 7th – November 4th\n10:15am-11:30pm\nMax = 12\nCost per person: $225\nLimited Capacity: 12 Ladies Max
URL:https://mcinnisparkgolfcenter.com/event/birdie-bunch-session-1-5/2022-09-08/
CATEGORIES:Upcoming Events
ATTACH;FMTTYPE=image/png:https://mcinnisparkgolfcenter.com/wp-content/uploads/2022/07/3.png
END:VEVENT
BEGIN:VEVENT
DTSTART;TZID=America/New_York:20220902T101500
DTEND;TZID=America/New_York:20220902T113000
DTSTAMP:20260423T095418
CREATED:20220727T124448Z
LAST-MODIFIED:20220727T124448Z
UID:10003349-1662113700-1662118200@mcinnisparkgolfcenter.com
SUMMARY:Birdie Bunch - Session 1
DESCRIPTION:McInnis Birdie Bunch\nCalling all ladies: Birdie Bunch is Back!\nMcInnis Park Golf Academy is again hosting a Birdie Bunch class that features Operation 36. \nClasses will start with Putting then chipping & Pitching followed by Full Swing Coaching. \nBirdie Bunch Sessions\nSession 1 | Thursdays\nSeptember 1st – September 29th\n10:15am-11:30pm\nCost per person: $225\nLimited Capacity: 18 Ladies Max \nSession 1 | Fridays\nSeptember 2nd – September 30th\n10:15am-11:30pm\nCost per person: $225\nLimited Capacity: 12 Ladies Max \nSession 2 | Thursdays\nOctober 6th – November 3rd\n10:15am-11:30pm\nCost per person: $225\nLimited Capacity: 18 Ladies Max \nSession 2 | Fridays\nOctober 7th – November 4th\n10:15am-11:30pm\nMax = 12\nCost per person: $225\nLimited Capacity: 12 Ladies Max
URL:https://mcinnisparkgolfcenter.com/event/birdie-bunch-session-1-5/2022-09-02/
CATEGORIES:Upcoming Events
ATTACH;FMTTYPE=image/png:https://mcinnisparkgolfcenter.com/wp-content/uploads/2022/07/3.png
END:VEVENT
BEGIN:VEVENT
DTSTART;TZID=America/New_York:20220901T101500
DTEND;TZID=America/New_York:20220901T113000
DTSTAMP:20260423T095418
CREATED:20220727T124448Z
LAST-MODIFIED:20220727T124448Z
UID:10003348-1662027300-1662031800@mcinnisparkgolfcenter.com
SUMMARY:Birdie Bunch - Session 1
DESCRIPTION:McInnis Birdie Bunch\nCalling all ladies: Birdie Bunch is Back!\nMcInnis Park Golf Academy is again hosting a Birdie Bunch class that features Operation 36. \nClasses will start with Putting then chipping & Pitching followed by Full Swing Coaching. \nBirdie Bunch Sessions\nSession 1 | Thursdays\nSeptember 1st – September 29th\n10:15am-11:30pm\nCost per person: $225\nLimited Capacity: 18 Ladies Max \nSession 1 | Fridays\nSeptember 2nd – September 30th\n10:15am-11:30pm\nCost per person: $225\nLimited Capacity: 12 Ladies Max \nSession 2 | Thursdays\nOctober 6th – November 3rd\n10:15am-11:30pm\nCost per person: $225\nLimited Capacity: 18 Ladies Max \nSession 2 | Fridays\nOctober 7th – November 4th\n10:15am-11:30pm\nMax = 12\nCost per person: $225\nLimited Capacity: 12 Ladies Max
URL:https://mcinnisparkgolfcenter.com/event/birdie-bunch-session-1-5/2022-09-01/
CATEGORIES:Upcoming Events
ATTACH;FMTTYPE=image/png:https://mcinnisparkgolfcenter.com/wp-content/uploads/2022/07/3.png
END:VEVENT
BEGIN:VEVENT
DTSTART;TZID=America/New_York:20220610T120000
DTEND;TZID=America/New_York:20220610T160000
DTSTAMP:20260423T095418
CREATED:20220525T134514Z
LAST-MODIFIED:20220525T134514Z
UID:10003347-1654862400-1654876800@mcinnisparkgolfcenter.com
SUMMARY:Taylor Made Demo Day
DESCRIPTION:
URL:https://mcinnisparkgolfcenter.com/event/taylor-made-demo-day/
END:VEVENT
BEGIN:VEVENT
DTSTART;TZID=America/Los_Angeles:20210912T120000
DTEND;TZID=America/Los_Angeles:20210912T130000
DTSTAMP:20260423T095418
CREATED:20190913T211507Z
LAST-MODIFIED:20190913T211507Z
UID:10003066-1631448000-1631451600@mcinnisparkgolfcenter.com
SUMMARY:Pee Wee Class
DESCRIPTION:
URL:https://mcinnisparkgolfcenter.com/event/pee-wee-class-197/
CATEGORIES:Upcoming Events
END:VEVENT
BEGIN:VEVENT
DTSTART;TZID=America/Los_Angeles:20210911T120000
DTEND;TZID=America/Los_Angeles:20210911T131500
DTSTAMP:20260423T095418
CREATED:20190913T211506Z
LAST-MODIFIED:20190913T211506Z
UID:10003065-1631361600-1631366100@mcinnisparkgolfcenter.com
SUMMARY:JDP Golf Class PM
DESCRIPTION:https://mcinnisparkgolfcenter.com/product/swing-circle-junior-program/
URL:https://mcinnisparkgolfcenter.com/event/jdp-golf-class-pm-242/
CATEGORIES:Upcoming Events
END:VEVENT
BEGIN:VEVENT
DTSTART;TZID=America/Los_Angeles:20210911T100000
DTEND;TZID=America/Los_Angeles:20210911T111500
DTSTAMP:20260423T095418
CREATED:20190913T211459Z
LAST-MODIFIED:20190913T211459Z
UID:10003064-1631354400-1631358900@mcinnisparkgolfcenter.com
SUMMARY:JDP Golf Class AM
DESCRIPTION:https://mcinnisparkgolfcenter.com/product/swing-circle-junior-program/
URL:https://mcinnisparkgolfcenter.com/event/jdp-golf-class-am-245/
CATEGORIES:Upcoming Events
END:VEVENT
BEGIN:VEVENT
DTSTART;TZID=America/Los_Angeles:20210905T120000
DTEND;TZID=America/Los_Angeles:20210905T130000
DTSTAMP:20260423T095418
CREATED:20190913T211457Z
LAST-MODIFIED:20190913T211457Z
UID:10003063-1630843200-1630846800@mcinnisparkgolfcenter.com
SUMMARY:Pee Wee Class
DESCRIPTION:
URL:https://mcinnisparkgolfcenter.com/event/pee-wee-class-196/
CATEGORIES:Upcoming Events
END:VEVENT
BEGIN:VEVENT
DTSTART;TZID=America/Los_Angeles:20210904T120000
DTEND;TZID=America/Los_Angeles:20210904T131500
DTSTAMP:20260423T095418
CREATED:20190913T211456Z
LAST-MODIFIED:20190913T211456Z
UID:10003062-1630756800-1630761300@mcinnisparkgolfcenter.com
SUMMARY:JDP Golf Class PM
DESCRIPTION:https://mcinnisparkgolfcenter.com/product/swing-circle-junior-program/
URL:https://mcinnisparkgolfcenter.com/event/jdp-golf-class-pm-241/
CATEGORIES:Upcoming Events
END:VEVENT
BEGIN:VEVENT
DTSTART;TZID=America/Los_Angeles:20210904T100000
DTEND;TZID=America/Los_Angeles:20210904T111500
DTSTAMP:20260423T095418
CREATED:20190913T211454Z
LAST-MODIFIED:20190913T211454Z
UID:10003061-1630749600-1630754100@mcinnisparkgolfcenter.com
SUMMARY:JDP Golf Class AM
DESCRIPTION:https://mcinnisparkgolfcenter.com/product/swing-circle-junior-program/
URL:https://mcinnisparkgolfcenter.com/event/jdp-golf-class-am-244/
CATEGORIES:Upcoming Events
END:VEVENT
BEGIN:VEVENT
DTSTART;TZID=America/Los_Angeles:20210829T120000
DTEND;TZID=America/Los_Angeles:20210829T130000
DTSTAMP:20260423T095418
CREATED:20190913T211452Z
LAST-MODIFIED:20190913T211452Z
UID:10003059-1630238400-1630242000@mcinnisparkgolfcenter.com
SUMMARY:Pee Wee Class
DESCRIPTION:
URL:https://mcinnisparkgolfcenter.com/event/pee-wee-class-195/
CATEGORIES:Upcoming Events
END:VEVENT
BEGIN:VEVENT
DTSTART;TZID=America/Los_Angeles:20210828T120000
DTEND;TZID=America/Los_Angeles:20210828T131500
DTSTAMP:20260423T095418
CREATED:20190913T211450Z
LAST-MODIFIED:20190913T211450Z
UID:10003060-1630152000-1630156500@mcinnisparkgolfcenter.com
SUMMARY:JDP Golf Class PM
DESCRIPTION:https://mcinnisparkgolfcenter.com/product/swing-circle-junior-program/
URL:https://mcinnisparkgolfcenter.com/event/jdp-golf-class-pm-240/
CATEGORIES:Upcoming Events
END:VEVENT
BEGIN:VEVENT
DTSTART;TZID=America/Los_Angeles:20210828T100000
DTEND;TZID=America/Los_Angeles:20210828T111500
DTSTAMP:20260423T095418
CREATED:20190913T211448Z
LAST-MODIFIED:20190913T211448Z
UID:10003057-1630144800-1630149300@mcinnisparkgolfcenter.com
SUMMARY:JDP Golf Class AM
DESCRIPTION:https://mcinnisparkgolfcenter.com/product/swing-circle-junior-program/
URL:https://mcinnisparkgolfcenter.com/event/jdp-golf-class-am-243/
CATEGORIES:Upcoming Events
END:VEVENT
BEGIN:VEVENT
DTSTART;TZID=America/Los_Angeles:20210822T120000
DTEND;TZID=America/Los_Angeles:20210822T130000
DTSTAMP:20260423T095418
CREATED:20190913T211446Z
LAST-MODIFIED:20190913T211446Z
UID:10003058-1629633600-1629637200@mcinnisparkgolfcenter.com
SUMMARY:Pee Wee Class
DESCRIPTION:
URL:https://mcinnisparkgolfcenter.com/event/pee-wee-class-194/
CATEGORIES:Upcoming Events
END:VEVENT
BEGIN:VEVENT
DTSTART;TZID=America/Los_Angeles:20210821T120000
DTEND;TZID=America/Los_Angeles:20210821T131500
DTSTAMP:20260423T095418
CREATED:20190913T211444Z
LAST-MODIFIED:20190913T211444Z
UID:10003056-1629547200-1629551700@mcinnisparkgolfcenter.com
SUMMARY:JDP Golf Class PM
DESCRIPTION:https://mcinnisparkgolfcenter.com/product/swing-circle-junior-program/
URL:https://mcinnisparkgolfcenter.com/event/jdp-golf-class-pm-239/
CATEGORIES:Upcoming Events
END:VEVENT
BEGIN:VEVENT
DTSTART;TZID=America/Los_Angeles:20210821T100000
DTEND;TZID=America/Los_Angeles:20210821T111500
DTSTAMP:20260423T095418
CREATED:20190913T211442Z
LAST-MODIFIED:20190913T211442Z
UID:10003055-1629540000-1629544500@mcinnisparkgolfcenter.com
SUMMARY:JDP Golf Class AM
DESCRIPTION:https://mcinnisparkgolfcenter.com/product/swing-circle-junior-program/
URL:https://mcinnisparkgolfcenter.com/event/jdp-golf-class-am-242/
CATEGORIES:Upcoming Events
END:VEVENT
BEGIN:VEVENT
DTSTART;TZID=America/Los_Angeles:20210815T120000
DTEND;TZID=America/Los_Angeles:20210815T130000
DTSTAMP:20260423T095418
CREATED:20190913T211440Z
LAST-MODIFIED:20190913T211440Z
UID:10003054-1629028800-1629032400@mcinnisparkgolfcenter.com
SUMMARY:Pee Wee Class
DESCRIPTION:
URL:https://mcinnisparkgolfcenter.com/event/pee-wee-class-193/
CATEGORIES:Upcoming Events
END:VEVENT
BEGIN:VEVENT
DTSTART;TZID=America/Los_Angeles:20210814T120000
DTEND;TZID=America/Los_Angeles:20210814T131500
DTSTAMP:20260423T095418
CREATED:20190913T211434Z
LAST-MODIFIED:20190913T211434Z
UID:10003053-1628942400-1628946900@mcinnisparkgolfcenter.com
SUMMARY:JDP Golf Class PM
DESCRIPTION:https://mcinnisparkgolfcenter.com/product/swing-circle-junior-program/
URL:https://mcinnisparkgolfcenter.com/event/jdp-golf-class-pm-238/
CATEGORIES:Upcoming Events
END:VEVENT
END:VCALENDAR