BEGIN:VCALENDAR
VERSION:2.0
PRODID:-//Marin County Golf - ECPv6.15.20//NONSGML v1.0//EN
CALSCALE:GREGORIAN
METHOD:PUBLISH
X-ORIGINAL-URL:https://mcinnisparkgolfcenter.com
X-WR-CALDESC:Events for Marin County Golf
REFRESH-INTERVAL;VALUE=DURATION:PT1H
X-Robots-Tag:noindex
X-PUBLISHED-TTL:PT1H
BEGIN:VTIMEZONE
TZID:America/Los_Angeles
BEGIN:DAYLIGHT
TZOFFSETFROM:-0800
TZOFFSETTO:-0700
TZNAME:PDT
DTSTART:20200308T100000
END:DAYLIGHT
BEGIN:STANDARD
TZOFFSETFROM:-0700
TZOFFSETTO:-0800
TZNAME:PST
DTSTART:20201101T090000
END:STANDARD
BEGIN:DAYLIGHT
TZOFFSETFROM:-0800
TZOFFSETTO:-0700
TZNAME:PDT
DTSTART:20210314T100000
END:DAYLIGHT
BEGIN:STANDARD
TZOFFSETFROM:-0700
TZOFFSETTO:-0800
TZNAME:PST
DTSTART:20211107T090000
END:STANDARD
BEGIN:DAYLIGHT
TZOFFSETFROM:-0800
TZOFFSETTO:-0700
TZNAME:PDT
DTSTART:20220313T100000
END:DAYLIGHT
BEGIN:STANDARD
TZOFFSETFROM:-0700
TZOFFSETTO:-0800
TZNAME:PST
DTSTART:20221106T090000
END:STANDARD
END:VTIMEZONE
BEGIN:VTIMEZONE
TZID:America/New_York
BEGIN:DAYLIGHT
TZOFFSETFROM:-0500
TZOFFSETTO:-0400
TZNAME:EDT
DTSTART:20200308T070000
END:DAYLIGHT
BEGIN:STANDARD
TZOFFSETFROM:-0400
TZOFFSETTO:-0500
TZNAME:EST
DTSTART:20201101T060000
END:STANDARD
BEGIN:DAYLIGHT
TZOFFSETFROM:-0500
TZOFFSETTO:-0400
TZNAME:EDT
DTSTART:20210314T070000
END:DAYLIGHT
BEGIN:STANDARD
TZOFFSETFROM:-0400
TZOFFSETTO:-0500
TZNAME:EST
DTSTART:20211107T060000
END:STANDARD
BEGIN:DAYLIGHT
TZOFFSETFROM:-0500
TZOFFSETTO:-0400
TZNAME:EDT
DTSTART:20220313T070000
END:DAYLIGHT
BEGIN:STANDARD
TZOFFSETFROM:-0400
TZOFFSETTO:-0500
TZNAME:EST
DTSTART:20221106T060000
END:STANDARD
END:VTIMEZONE
BEGIN:VEVENT
DTSTART;TZID=America/Los_Angeles:20210731T100000
DTEND;TZID=America/Los_Angeles:20210731T111500
DTSTAMP:20260423T145848
CREATED:20190913T211422Z
LAST-MODIFIED:20190913T211422Z
UID:10002540-1627725600-1627730100@mcinnisparkgolfcenter.com
SUMMARY:JDP Golf Class AM
DESCRIPTION:Swing the Circle – Monthly Junior Program
URL:https://mcinnisparkgolfcenter.com/event/jdp-golf-class-am-239/
CATEGORIES:Upcoming Events
END:VEVENT
BEGIN:VEVENT
DTSTART;VALUE=DATE:20210728
DTEND;VALUE=DATE:20210729
DTSTAMP:20260423T145848
CREATED:20210426T191640Z
LAST-MODIFIED:20210426T191640Z
UID:10003339-1627430400-1627516799@mcinnisparkgolfcenter.com
SUMMARY:OP 36 JUNIOR PROGRAM
DESCRIPTION:OP 36 JUNIOR PROGRAM\nMcInnis Park Golf Academy has implemented a brand new development program called Operation 36 Juniors. Each Tuesday juniors will meet with their coaches to work on their games through drills and games. Through these coaching sessions we have Juniors focus on breaking a 9 hole score of 36 from 25 yards away where all juniors will start. They will attempt this on their designated match days which will be on selected Wednesdays in each season. Once the goal is achieved the junior will graduate to division 2 where they will play from 50 yards (division 3 is 100 yards etc). \nSummer CLASS OPTIONS \nOP 36 Junior Golf Summer Season Classes \nTuesday Class: June 15th- August 10th \n4pm-5:30pm \n3:30pm-6pm (Match Days 6/21\, 7/6\, 7/20\, 8/3) \n$425 per junior per season \nWednesday Class: June 16th- August 11th \n4pm-5:30pm \n3:30pm-6pm (Match Days 6/22\,7/7\, 7/21. 8/4) \n$425 per junior per season \nAs Juniors progress they can monitor their progress on the Op 36 app. Within the app they can post scores\, organize practice sessions\, and receive helpful tips on how to improve. It is such a good way to learn how to play golf the right way! Sign up your junior today! \n 
URL:https://mcinnisparkgolfcenter.com/event/op-36-junior-program/2021-07-28/
CATEGORIES:Upcoming Events
ATTACH;FMTTYPE=image/png:https://mcinnisparkgolfcenter.com/wp-content/uploads/2021/04/2-2021-04-26T151409.376.png
END:VEVENT
BEGIN:VEVENT
DTSTART;VALUE=DATE:20210727
DTEND;VALUE=DATE:20210728
DTSTAMP:20260423T145848
CREATED:20210426T191640Z
LAST-MODIFIED:20210426T191640Z
UID:10003338-1627344000-1627430399@mcinnisparkgolfcenter.com
SUMMARY:OP 36 JUNIOR PROGRAM
DESCRIPTION:OP 36 JUNIOR PROGRAM\nMcInnis Park Golf Academy has implemented a brand new development program called Operation 36 Juniors. Each Tuesday juniors will meet with their coaches to work on their games through drills and games. Through these coaching sessions we have Juniors focus on breaking a 9 hole score of 36 from 25 yards away where all juniors will start. They will attempt this on their designated match days which will be on selected Wednesdays in each season. Once the goal is achieved the junior will graduate to division 2 where they will play from 50 yards (division 3 is 100 yards etc). \nSummer CLASS OPTIONS \nOP 36 Junior Golf Summer Season Classes \nTuesday Class: June 15th- August 10th \n4pm-5:30pm \n3:30pm-6pm (Match Days 6/21\, 7/6\, 7/20\, 8/3) \n$425 per junior per season \nWednesday Class: June 16th- August 11th \n4pm-5:30pm \n3:30pm-6pm (Match Days 6/22\,7/7\, 7/21. 8/4) \n$425 per junior per season \nAs Juniors progress they can monitor their progress on the Op 36 app. Within the app they can post scores\, organize practice sessions\, and receive helpful tips on how to improve. It is such a good way to learn how to play golf the right way! Sign up your junior today! \n 
URL:https://mcinnisparkgolfcenter.com/event/op-36-junior-program/2021-07-27/
CATEGORIES:Upcoming Events
ATTACH;FMTTYPE=image/png:https://mcinnisparkgolfcenter.com/wp-content/uploads/2021/04/2-2021-04-26T151409.376.png
END:VEVENT
BEGIN:VEVENT
DTSTART;TZID=America/Los_Angeles:20210725T120000
DTEND;TZID=America/Los_Angeles:20210725T130000
DTSTAMP:20260423T145848
CREATED:20190913T211420Z
LAST-MODIFIED:20190913T211420Z
UID:10002537-1627214400-1627218000@mcinnisparkgolfcenter.com
SUMMARY:Pee Wee Class
DESCRIPTION:
URL:https://mcinnisparkgolfcenter.com/event/pee-wee-class-190/
CATEGORIES:Upcoming Events
END:VEVENT
BEGIN:VEVENT
DTSTART;TZID=America/Los_Angeles:20210724T120000
DTEND;TZID=America/Los_Angeles:20210724T131500
DTSTAMP:20260423T145848
CREATED:20190913T211418Z
LAST-MODIFIED:20190913T211418Z
UID:10002536-1627128000-1627132500@mcinnisparkgolfcenter.com
SUMMARY:JDP Golf Class PM
DESCRIPTION:Swing the Circle – Monthly Junior Program
URL:https://mcinnisparkgolfcenter.com/event/jdp-golf-class-pm-235/
CATEGORIES:Upcoming Events
END:VEVENT
BEGIN:VEVENT
DTSTART;TZID=America/Los_Angeles:20210724T100000
DTEND;TZID=America/Los_Angeles:20210724T111500
DTSTAMP:20260423T145848
CREATED:20190913T211416Z
LAST-MODIFIED:20190913T211416Z
UID:10002533-1627120800-1627125300@mcinnisparkgolfcenter.com
SUMMARY:JDP Golf Class AM
DESCRIPTION:Swing the Circle – Monthly Junior Program
URL:https://mcinnisparkgolfcenter.com/event/jdp-golf-class-am-238/
CATEGORIES:Upcoming Events
END:VEVENT
BEGIN:VEVENT
DTSTART;VALUE=DATE:20210721
DTEND;VALUE=DATE:20210722
DTSTAMP:20260423T145848
CREATED:20210426T191640Z
LAST-MODIFIED:20210426T191640Z
UID:10003337-1626825600-1626911999@mcinnisparkgolfcenter.com
SUMMARY:OP 36 JUNIOR PROGRAM
DESCRIPTION:OP 36 JUNIOR PROGRAM\nMcInnis Park Golf Academy has implemented a brand new development program called Operation 36 Juniors. Each Tuesday juniors will meet with their coaches to work on their games through drills and games. Through these coaching sessions we have Juniors focus on breaking a 9 hole score of 36 from 25 yards away where all juniors will start. They will attempt this on their designated match days which will be on selected Wednesdays in each season. Once the goal is achieved the junior will graduate to division 2 where they will play from 50 yards (division 3 is 100 yards etc). \nSummer CLASS OPTIONS \nOP 36 Junior Golf Summer Season Classes \nTuesday Class: June 15th- August 10th \n4pm-5:30pm \n3:30pm-6pm (Match Days 6/21\, 7/6\, 7/20\, 8/3) \n$425 per junior per season \nWednesday Class: June 16th- August 11th \n4pm-5:30pm \n3:30pm-6pm (Match Days 6/22\,7/7\, 7/21. 8/4) \n$425 per junior per season \nAs Juniors progress they can monitor their progress on the Op 36 app. Within the app they can post scores\, organize practice sessions\, and receive helpful tips on how to improve. It is such a good way to learn how to play golf the right way! Sign up your junior today! \n 
URL:https://mcinnisparkgolfcenter.com/event/op-36-junior-program/2021-07-21/
CATEGORIES:Upcoming Events
ATTACH;FMTTYPE=image/png:https://mcinnisparkgolfcenter.com/wp-content/uploads/2021/04/2-2021-04-26T151409.376.png
END:VEVENT
BEGIN:VEVENT
DTSTART;VALUE=DATE:20210720
DTEND;VALUE=DATE:20210721
DTSTAMP:20260423T145848
CREATED:20210426T191640Z
LAST-MODIFIED:20210426T191640Z
UID:10003336-1626739200-1626825599@mcinnisparkgolfcenter.com
SUMMARY:OP 36 JUNIOR PROGRAM
DESCRIPTION:OP 36 JUNIOR PROGRAM\nMcInnis Park Golf Academy has implemented a brand new development program called Operation 36 Juniors. Each Tuesday juniors will meet with their coaches to work on their games through drills and games. Through these coaching sessions we have Juniors focus on breaking a 9 hole score of 36 from 25 yards away where all juniors will start. They will attempt this on their designated match days which will be on selected Wednesdays in each season. Once the goal is achieved the junior will graduate to division 2 where they will play from 50 yards (division 3 is 100 yards etc). \nSummer CLASS OPTIONS \nOP 36 Junior Golf Summer Season Classes \nTuesday Class: June 15th- August 10th \n4pm-5:30pm \n3:30pm-6pm (Match Days 6/21\, 7/6\, 7/20\, 8/3) \n$425 per junior per season \nWednesday Class: June 16th- August 11th \n4pm-5:30pm \n3:30pm-6pm (Match Days 6/22\,7/7\, 7/21. 8/4) \n$425 per junior per season \nAs Juniors progress they can monitor their progress on the Op 36 app. Within the app they can post scores\, organize practice sessions\, and receive helpful tips on how to improve. It is such a good way to learn how to play golf the right way! Sign up your junior today! \n 
URL:https://mcinnisparkgolfcenter.com/event/op-36-junior-program/2021-07-20/
CATEGORIES:Upcoming Events
ATTACH;FMTTYPE=image/png:https://mcinnisparkgolfcenter.com/wp-content/uploads/2021/04/2-2021-04-26T151409.376.png
END:VEVENT
BEGIN:VEVENT
DTSTART;TZID=America/Los_Angeles:20210718T120000
DTEND;TZID=America/Los_Angeles:20210718T130000
DTSTAMP:20260423T145848
CREATED:20190913T211410Z
LAST-MODIFIED:20190913T211410Z
UID:10003051-1626609600-1626613200@mcinnisparkgolfcenter.com
SUMMARY:Pee Wee Class
DESCRIPTION:
URL:https://mcinnisparkgolfcenter.com/event/pee-wee-class-189/
CATEGORIES:Upcoming Events
END:VEVENT
BEGIN:VEVENT
DTSTART;TZID=America/Los_Angeles:20210717T120000
DTEND;TZID=America/Los_Angeles:20210717T131500
DTSTAMP:20260423T145848
CREATED:20190913T211408Z
LAST-MODIFIED:20190913T211408Z
UID:10003052-1626523200-1626527700@mcinnisparkgolfcenter.com
SUMMARY:JDP Golf Class PM
DESCRIPTION:Swing the Circle – Monthly Junior Program
URL:https://mcinnisparkgolfcenter.com/event/jdp-golf-class-pm-234/
CATEGORIES:Upcoming Events
END:VEVENT
BEGIN:VEVENT
DTSTART;TZID=America/Los_Angeles:20210717T100000
DTEND;TZID=America/Los_Angeles:20210717T111500
DTSTAMP:20260423T145848
CREATED:20190913T211406Z
LAST-MODIFIED:20190913T211406Z
UID:10003050-1626516000-1626520500@mcinnisparkgolfcenter.com
SUMMARY:JDP Golf Class AM
DESCRIPTION:Swing the Circle – Monthly Junior Program
URL:https://mcinnisparkgolfcenter.com/event/jdp-golf-class-am-237/
CATEGORIES:Upcoming Events
END:VEVENT
BEGIN:VEVENT
DTSTART;VALUE=DATE:20210714
DTEND;VALUE=DATE:20210715
DTSTAMP:20260423T145848
CREATED:20210426T191640Z
LAST-MODIFIED:20210426T191640Z
UID:10003335-1626220800-1626307199@mcinnisparkgolfcenter.com
SUMMARY:OP 36 JUNIOR PROGRAM
DESCRIPTION:OP 36 JUNIOR PROGRAM\nMcInnis Park Golf Academy has implemented a brand new development program called Operation 36 Juniors. Each Tuesday juniors will meet with their coaches to work on their games through drills and games. Through these coaching sessions we have Juniors focus on breaking a 9 hole score of 36 from 25 yards away where all juniors will start. They will attempt this on their designated match days which will be on selected Wednesdays in each season. Once the goal is achieved the junior will graduate to division 2 where they will play from 50 yards (division 3 is 100 yards etc). \nSummer CLASS OPTIONS \nOP 36 Junior Golf Summer Season Classes \nTuesday Class: June 15th- August 10th \n4pm-5:30pm \n3:30pm-6pm (Match Days 6/21\, 7/6\, 7/20\, 8/3) \n$425 per junior per season \nWednesday Class: June 16th- August 11th \n4pm-5:30pm \n3:30pm-6pm (Match Days 6/22\,7/7\, 7/21. 8/4) \n$425 per junior per season \nAs Juniors progress they can monitor their progress on the Op 36 app. Within the app they can post scores\, organize practice sessions\, and receive helpful tips on how to improve. It is such a good way to learn how to play golf the right way! Sign up your junior today! \n 
URL:https://mcinnisparkgolfcenter.com/event/op-36-junior-program/2021-07-14/
CATEGORIES:Upcoming Events
ATTACH;FMTTYPE=image/png:https://mcinnisparkgolfcenter.com/wp-content/uploads/2021/04/2-2021-04-26T151409.376.png
END:VEVENT
BEGIN:VEVENT
DTSTART;VALUE=DATE:20210713
DTEND;VALUE=DATE:20210714
DTSTAMP:20260423T145848
CREATED:20210426T191640Z
LAST-MODIFIED:20210426T191640Z
UID:10003334-1626134400-1626220799@mcinnisparkgolfcenter.com
SUMMARY:OP 36 JUNIOR PROGRAM
DESCRIPTION:OP 36 JUNIOR PROGRAM\nMcInnis Park Golf Academy has implemented a brand new development program called Operation 36 Juniors. Each Tuesday juniors will meet with their coaches to work on their games through drills and games. Through these coaching sessions we have Juniors focus on breaking a 9 hole score of 36 from 25 yards away where all juniors will start. They will attempt this on their designated match days which will be on selected Wednesdays in each season. Once the goal is achieved the junior will graduate to division 2 where they will play from 50 yards (division 3 is 100 yards etc). \nSummer CLASS OPTIONS \nOP 36 Junior Golf Summer Season Classes \nTuesday Class: June 15th- August 10th \n4pm-5:30pm \n3:30pm-6pm (Match Days 6/21\, 7/6\, 7/20\, 8/3) \n$425 per junior per season \nWednesday Class: June 16th- August 11th \n4pm-5:30pm \n3:30pm-6pm (Match Days 6/22\,7/7\, 7/21. 8/4) \n$425 per junior per season \nAs Juniors progress they can monitor their progress on the Op 36 app. Within the app they can post scores\, organize practice sessions\, and receive helpful tips on how to improve. It is such a good way to learn how to play golf the right way! Sign up your junior today! \n 
URL:https://mcinnisparkgolfcenter.com/event/op-36-junior-program/2021-07-13/
CATEGORIES:Upcoming Events
ATTACH;FMTTYPE=image/png:https://mcinnisparkgolfcenter.com/wp-content/uploads/2021/04/2-2021-04-26T151409.376.png
END:VEVENT
BEGIN:VEVENT
DTSTART;TZID=America/Los_Angeles:20210711T120000
DTEND;TZID=America/Los_Angeles:20210711T130000
DTSTAMP:20260423T145848
CREATED:20190913T211404Z
LAST-MODIFIED:20190913T211404Z
UID:10003049-1626004800-1626008400@mcinnisparkgolfcenter.com
SUMMARY:Pee Wee Class
DESCRIPTION:
URL:https://mcinnisparkgolfcenter.com/event/pee-wee-class-188/
CATEGORIES:Upcoming Events
END:VEVENT
BEGIN:VEVENT
DTSTART;TZID=America/Los_Angeles:20210710T120000
DTEND;TZID=America/Los_Angeles:20210710T131500
DTSTAMP:20260423T145848
CREATED:20190913T211402Z
LAST-MODIFIED:20190913T211402Z
UID:10003048-1625918400-1625922900@mcinnisparkgolfcenter.com
SUMMARY:JDP Golf Class PM
DESCRIPTION:Swing the Circle – Monthly Junior Program
URL:https://mcinnisparkgolfcenter.com/event/jdp-golf-class-pm-233/
CATEGORIES:Upcoming Events
END:VEVENT
BEGIN:VEVENT
DTSTART;TZID=America/Los_Angeles:20210710T100000
DTEND;TZID=America/Los_Angeles:20210710T111500
DTSTAMP:20260423T145848
CREATED:20190913T211401Z
LAST-MODIFIED:20190913T211401Z
UID:10003047-1625911200-1625915700@mcinnisparkgolfcenter.com
SUMMARY:JDP Golf Class AM
DESCRIPTION:Swing the Circle – Monthly Junior Program
URL:https://mcinnisparkgolfcenter.com/event/jdp-golf-class-am-236/
CATEGORIES:Upcoming Events
END:VEVENT
BEGIN:VEVENT
DTSTART;VALUE=DATE:20210707
DTEND;VALUE=DATE:20210708
DTSTAMP:20260423T145848
CREATED:20210426T191640Z
LAST-MODIFIED:20210426T191640Z
UID:10003333-1625616000-1625702399@mcinnisparkgolfcenter.com
SUMMARY:OP 36 JUNIOR PROGRAM
DESCRIPTION:OP 36 JUNIOR PROGRAM\nMcInnis Park Golf Academy has implemented a brand new development program called Operation 36 Juniors. Each Tuesday juniors will meet with their coaches to work on their games through drills and games. Through these coaching sessions we have Juniors focus on breaking a 9 hole score of 36 from 25 yards away where all juniors will start. They will attempt this on their designated match days which will be on selected Wednesdays in each season. Once the goal is achieved the junior will graduate to division 2 where they will play from 50 yards (division 3 is 100 yards etc). \nSummer CLASS OPTIONS \nOP 36 Junior Golf Summer Season Classes \nTuesday Class: June 15th- August 10th \n4pm-5:30pm \n3:30pm-6pm (Match Days 6/21\, 7/6\, 7/20\, 8/3) \n$425 per junior per season \nWednesday Class: June 16th- August 11th \n4pm-5:30pm \n3:30pm-6pm (Match Days 6/22\,7/7\, 7/21. 8/4) \n$425 per junior per season \nAs Juniors progress they can monitor their progress on the Op 36 app. Within the app they can post scores\, organize practice sessions\, and receive helpful tips on how to improve. It is such a good way to learn how to play golf the right way! Sign up your junior today! \n 
URL:https://mcinnisparkgolfcenter.com/event/op-36-junior-program/2021-07-07/
CATEGORIES:Upcoming Events
ATTACH;FMTTYPE=image/png:https://mcinnisparkgolfcenter.com/wp-content/uploads/2021/04/2-2021-04-26T151409.376.png
END:VEVENT
BEGIN:VEVENT
DTSTART;VALUE=DATE:20210706
DTEND;VALUE=DATE:20210707
DTSTAMP:20260423T145848
CREATED:20210426T191640Z
LAST-MODIFIED:20210426T191640Z
UID:10003332-1625529600-1625615999@mcinnisparkgolfcenter.com
SUMMARY:OP 36 JUNIOR PROGRAM
DESCRIPTION:OP 36 JUNIOR PROGRAM\nMcInnis Park Golf Academy has implemented a brand new development program called Operation 36 Juniors. Each Tuesday juniors will meet with their coaches to work on their games through drills and games. Through these coaching sessions we have Juniors focus on breaking a 9 hole score of 36 from 25 yards away where all juniors will start. They will attempt this on their designated match days which will be on selected Wednesdays in each season. Once the goal is achieved the junior will graduate to division 2 where they will play from 50 yards (division 3 is 100 yards etc). \nSummer CLASS OPTIONS \nOP 36 Junior Golf Summer Season Classes \nTuesday Class: June 15th- August 10th \n4pm-5:30pm \n3:30pm-6pm (Match Days 6/21\, 7/6\, 7/20\, 8/3) \n$425 per junior per season \nWednesday Class: June 16th- August 11th \n4pm-5:30pm \n3:30pm-6pm (Match Days 6/22\,7/7\, 7/21. 8/4) \n$425 per junior per season \nAs Juniors progress they can monitor their progress on the Op 36 app. Within the app they can post scores\, organize practice sessions\, and receive helpful tips on how to improve. It is such a good way to learn how to play golf the right way! Sign up your junior today! \n 
URL:https://mcinnisparkgolfcenter.com/event/op-36-junior-program/2021-07-06/
CATEGORIES:Upcoming Events
ATTACH;FMTTYPE=image/png:https://mcinnisparkgolfcenter.com/wp-content/uploads/2021/04/2-2021-04-26T151409.376.png
END:VEVENT
BEGIN:VEVENT
DTSTART;TZID=America/Los_Angeles:20210704T120000
DTEND;TZID=America/Los_Angeles:20210704T130000
DTSTAMP:20260423T145848
CREATED:20190913T211359Z
LAST-MODIFIED:20190913T211359Z
UID:10003046-1625400000-1625403600@mcinnisparkgolfcenter.com
SUMMARY:Pee Wee Class
DESCRIPTION:
URL:https://mcinnisparkgolfcenter.com/event/pee-wee-class-187/
CATEGORIES:Upcoming Events
END:VEVENT
BEGIN:VEVENT
DTSTART;TZID=America/Los_Angeles:20210703T120000
DTEND;TZID=America/Los_Angeles:20210703T131500
DTSTAMP:20260423T145848
CREATED:20190913T211357Z
LAST-MODIFIED:20190913T211357Z
UID:10003045-1625313600-1625318100@mcinnisparkgolfcenter.com
SUMMARY:JDP Golf Class PM
DESCRIPTION:Swing the Circle – Monthly Junior Program
URL:https://mcinnisparkgolfcenter.com/event/jdp-golf-class-pm-232/
CATEGORIES:Upcoming Events
END:VEVENT
BEGIN:VEVENT
DTSTART;TZID=America/Los_Angeles:20210703T100000
DTEND;TZID=America/Los_Angeles:20210703T111500
DTSTAMP:20260423T145848
CREATED:20190913T211355Z
LAST-MODIFIED:20190913T211355Z
UID:10003043-1625306400-1625310900@mcinnisparkgolfcenter.com
SUMMARY:JDP Golf Class AM
DESCRIPTION:Swing the Circle – Monthly Junior Program
URL:https://mcinnisparkgolfcenter.com/event/jdp-golf-class-am-235/
CATEGORIES:Upcoming Events
END:VEVENT
BEGIN:VEVENT
DTSTART;VALUE=DATE:20210630
DTEND;VALUE=DATE:20210701
DTSTAMP:20260423T145848
CREATED:20210426T191640Z
LAST-MODIFIED:20210426T191640Z
UID:10003331-1625011200-1625097599@mcinnisparkgolfcenter.com
SUMMARY:OP 36 JUNIOR PROGRAM
DESCRIPTION:OP 36 JUNIOR PROGRAM\nMcInnis Park Golf Academy has implemented a brand new development program called Operation 36 Juniors. Each Tuesday juniors will meet with their coaches to work on their games through drills and games. Through these coaching sessions we have Juniors focus on breaking a 9 hole score of 36 from 25 yards away where all juniors will start. They will attempt this on their designated match days which will be on selected Wednesdays in each season. Once the goal is achieved the junior will graduate to division 2 where they will play from 50 yards (division 3 is 100 yards etc). \nSummer CLASS OPTIONS \nOP 36 Junior Golf Summer Season Classes \nTuesday Class: June 15th- August 10th \n4pm-5:30pm \n3:30pm-6pm (Match Days 6/21\, 7/6\, 7/20\, 8/3) \n$425 per junior per season \nWednesday Class: June 16th- August 11th \n4pm-5:30pm \n3:30pm-6pm (Match Days 6/22\,7/7\, 7/21. 8/4) \n$425 per junior per season \nAs Juniors progress they can monitor their progress on the Op 36 app. Within the app they can post scores\, organize practice sessions\, and receive helpful tips on how to improve. It is such a good way to learn how to play golf the right way! Sign up your junior today! \n 
URL:https://mcinnisparkgolfcenter.com/event/op-36-junior-program/2021-06-30/
CATEGORIES:Upcoming Events
ATTACH;FMTTYPE=image/png:https://mcinnisparkgolfcenter.com/wp-content/uploads/2021/04/2-2021-04-26T151409.376.png
END:VEVENT
BEGIN:VEVENT
DTSTART;VALUE=DATE:20210629
DTEND;VALUE=DATE:20210630
DTSTAMP:20260423T145848
CREATED:20210426T191640Z
LAST-MODIFIED:20210426T191640Z
UID:10003330-1624924800-1625011199@mcinnisparkgolfcenter.com
SUMMARY:OP 36 JUNIOR PROGRAM
DESCRIPTION:OP 36 JUNIOR PROGRAM\nMcInnis Park Golf Academy has implemented a brand new development program called Operation 36 Juniors. Each Tuesday juniors will meet with their coaches to work on their games through drills and games. Through these coaching sessions we have Juniors focus on breaking a 9 hole score of 36 from 25 yards away where all juniors will start. They will attempt this on their designated match days which will be on selected Wednesdays in each season. Once the goal is achieved the junior will graduate to division 2 where they will play from 50 yards (division 3 is 100 yards etc). \nSummer CLASS OPTIONS \nOP 36 Junior Golf Summer Season Classes \nTuesday Class: June 15th- August 10th \n4pm-5:30pm \n3:30pm-6pm (Match Days 6/21\, 7/6\, 7/20\, 8/3) \n$425 per junior per season \nWednesday Class: June 16th- August 11th \n4pm-5:30pm \n3:30pm-6pm (Match Days 6/22\,7/7\, 7/21. 8/4) \n$425 per junior per season \nAs Juniors progress they can monitor their progress on the Op 36 app. Within the app they can post scores\, organize practice sessions\, and receive helpful tips on how to improve. It is such a good way to learn how to play golf the right way! Sign up your junior today! \n 
URL:https://mcinnisparkgolfcenter.com/event/op-36-junior-program/2021-06-29/
CATEGORIES:Upcoming Events
ATTACH;FMTTYPE=image/png:https://mcinnisparkgolfcenter.com/wp-content/uploads/2021/04/2-2021-04-26T151409.376.png
END:VEVENT
BEGIN:VEVENT
DTSTART;TZID=America/Los_Angeles:20210627T120000
DTEND;TZID=America/Los_Angeles:20210627T130000
DTSTAMP:20260423T145848
CREATED:20190913T211354Z
LAST-MODIFIED:20190913T211354Z
UID:10003044-1624795200-1624798800@mcinnisparkgolfcenter.com
SUMMARY:Pee Wee Class
DESCRIPTION:
URL:https://mcinnisparkgolfcenter.com/event/pee-wee-class-186/
CATEGORIES:Upcoming Events
END:VEVENT
BEGIN:VEVENT
DTSTART;TZID=America/Los_Angeles:20210626T120000
DTEND;TZID=America/Los_Angeles:20210626T131500
DTSTAMP:20260423T145848
CREATED:20190913T211352Z
LAST-MODIFIED:20190913T211352Z
UID:10003041-1624708800-1624713300@mcinnisparkgolfcenter.com
SUMMARY:JDP Golf Class PM
DESCRIPTION:Swing the Circle – Monthly Junior Program
URL:https://mcinnisparkgolfcenter.com/event/jdp-golf-class-pm-231/
CATEGORIES:Upcoming Events
END:VEVENT
BEGIN:VEVENT
DTSTART;TZID=America/Los_Angeles:20210626T100000
DTEND;TZID=America/Los_Angeles:20210626T111500
DTSTAMP:20260423T145848
CREATED:20190913T211347Z
LAST-MODIFIED:20190913T211347Z
UID:10003042-1624701600-1624706100@mcinnisparkgolfcenter.com
SUMMARY:JDP Golf Class AM
DESCRIPTION:Swing the Circle – Monthly Junior Program
URL:https://mcinnisparkgolfcenter.com/event/jdp-golf-class-am-234/
CATEGORIES:Upcoming Events
END:VEVENT
BEGIN:VEVENT
DTSTART;VALUE=DATE:20210623
DTEND;VALUE=DATE:20210624
DTSTAMP:20260423T145848
CREATED:20210426T191640Z
LAST-MODIFIED:20210426T191640Z
UID:10003329-1624406400-1624492799@mcinnisparkgolfcenter.com
SUMMARY:OP 36 JUNIOR PROGRAM
DESCRIPTION:OP 36 JUNIOR PROGRAM\nMcInnis Park Golf Academy has implemented a brand new development program called Operation 36 Juniors. Each Tuesday juniors will meet with their coaches to work on their games through drills and games. Through these coaching sessions we have Juniors focus on breaking a 9 hole score of 36 from 25 yards away where all juniors will start. They will attempt this on their designated match days which will be on selected Wednesdays in each season. Once the goal is achieved the junior will graduate to division 2 where they will play from 50 yards (division 3 is 100 yards etc). \nSummer CLASS OPTIONS \nOP 36 Junior Golf Summer Season Classes \nTuesday Class: June 15th- August 10th \n4pm-5:30pm \n3:30pm-6pm (Match Days 6/21\, 7/6\, 7/20\, 8/3) \n$425 per junior per season \nWednesday Class: June 16th- August 11th \n4pm-5:30pm \n3:30pm-6pm (Match Days 6/22\,7/7\, 7/21. 8/4) \n$425 per junior per season \nAs Juniors progress they can monitor their progress on the Op 36 app. Within the app they can post scores\, organize practice sessions\, and receive helpful tips on how to improve. It is such a good way to learn how to play golf the right way! Sign up your junior today! \n 
URL:https://mcinnisparkgolfcenter.com/event/op-36-junior-program/2021-06-23/
CATEGORIES:Upcoming Events
ATTACH;FMTTYPE=image/png:https://mcinnisparkgolfcenter.com/wp-content/uploads/2021/04/2-2021-04-26T151409.376.png
END:VEVENT
BEGIN:VEVENT
DTSTART;VALUE=DATE:20210622
DTEND;VALUE=DATE:20210623
DTSTAMP:20260423T145848
CREATED:20210426T191640Z
LAST-MODIFIED:20210426T191640Z
UID:10003328-1624320000-1624406399@mcinnisparkgolfcenter.com
SUMMARY:OP 36 JUNIOR PROGRAM
DESCRIPTION:OP 36 JUNIOR PROGRAM\nMcInnis Park Golf Academy has implemented a brand new development program called Operation 36 Juniors. Each Tuesday juniors will meet with their coaches to work on their games through drills and games. Through these coaching sessions we have Juniors focus on breaking a 9 hole score of 36 from 25 yards away where all juniors will start. They will attempt this on their designated match days which will be on selected Wednesdays in each season. Once the goal is achieved the junior will graduate to division 2 where they will play from 50 yards (division 3 is 100 yards etc). \nSummer CLASS OPTIONS \nOP 36 Junior Golf Summer Season Classes \nTuesday Class: June 15th- August 10th \n4pm-5:30pm \n3:30pm-6pm (Match Days 6/21\, 7/6\, 7/20\, 8/3) \n$425 per junior per season \nWednesday Class: June 16th- August 11th \n4pm-5:30pm \n3:30pm-6pm (Match Days 6/22\,7/7\, 7/21. 8/4) \n$425 per junior per season \nAs Juniors progress they can monitor their progress on the Op 36 app. Within the app they can post scores\, organize practice sessions\, and receive helpful tips on how to improve. It is such a good way to learn how to play golf the right way! Sign up your junior today! \n 
URL:https://mcinnisparkgolfcenter.com/event/op-36-junior-program/2021-06-22/
CATEGORIES:Upcoming Events
ATTACH;FMTTYPE=image/png:https://mcinnisparkgolfcenter.com/wp-content/uploads/2021/04/2-2021-04-26T151409.376.png
END:VEVENT
BEGIN:VEVENT
DTSTART;TZID=America/Los_Angeles:20210620T120000
DTEND;TZID=America/Los_Angeles:20210620T130000
DTSTAMP:20260423T145848
CREATED:20190913T211346Z
LAST-MODIFIED:20190913T211346Z
UID:10003039-1624190400-1624194000@mcinnisparkgolfcenter.com
SUMMARY:Pee Wee Class
DESCRIPTION:
URL:https://mcinnisparkgolfcenter.com/event/pee-wee-class-185/
CATEGORIES:Upcoming Events
END:VEVENT
BEGIN:VEVENT
DTSTART;TZID=America/Los_Angeles:20210619T120000
DTEND;TZID=America/Los_Angeles:20210619T131500
DTSTAMP:20260423T145848
CREATED:20190913T211344Z
LAST-MODIFIED:20190913T211344Z
UID:10003040-1624104000-1624108500@mcinnisparkgolfcenter.com
SUMMARY:JDP Golf Class PM
DESCRIPTION:Swing the Circle – Monthly Junior Program
URL:https://mcinnisparkgolfcenter.com/event/jdp-golf-class-pm-230/
CATEGORIES:Upcoming Events
END:VEVENT
END:VCALENDAR